BEGIN:VCALENDAR
VERSION:2.0
PRODID:-//ExpressionEngine Easy iCalendar plugin//NONSGML v2.0.0//EN
X-WR-TIMEZONE:America/New_York
X-WR-CALNAME:Upcoming Auctions
BEGIN:VEVENT
UID:141718
DTSTAMP:20250627T100000
DTSTART:20250627T100000
DTEND:20250729T130000
SUMMARY:Online Only Consignment Auction
LOCATION:{location}
DESCRIPTION:Online Only Consignment Auction
URL:https://www.blackwaterauction.com/auctions/detail/bw141718
SEQUENCE:1
END:VEVENT
END:VCALENDAR