BEGIN:VCALENDAR
VERSION:2.0
PRODID:-//ExpressionEngine Easy iCalendar plugin//NONSGML v2.0.0//EN
X-WR-TIMEZONE:America/New_York
X-WR-CALNAME:Upcoming Auctions
BEGIN:VEVENT
UID:144503
DTSTAMP:20250901T090000
DTSTART:20250901T090000
DTEND:20250901T100000
SUMMARY:The Black Water Inaugural
LOCATION:5675 SC-70\, Blackville\, SC 29817\, US
DESCRIPTION:Personal property auction
URL:https://www.blackwaterauction.com/auctions/detail/bw144503
SEQUENCE:1
END:VEVENT
END:VCALENDAR