BEGIN:VCALENDAR
VERSION:2.0
PRODID:-//ExpressionEngine Easy iCalendar plugin//NONSGML v2.0.0//EN
X-WR-TIMEZONE:America/New_York
X-WR-CALNAME:Upcoming Auctions
BEGIN:VEVENT
UID:149022
DTSTAMP:20251101T090000
DTSTART:20251101T090000
DTEND:20251101T100000
SUMMARY:Stevens and Courtney Estate
LOCATION:4756 Edisto River Rd.\, Branchville\, SC 29432\, US
DESCRIPTION:Personal property auction 
URL:https://www.blackwaterauction.com/auctions/detail/bw149022
SEQUENCE:1
END:VEVENT
END:VCALENDAR