BEGIN:VCALENDAR
VERSION:2.0
PRODID:-//ExpressionEngine Easy iCalendar plugin//NONSGML v2.0.0//EN
X-WR-TIMEZONE:America/New_York
X-WR-CALNAME:Upcoming Auctions
BEGIN:VEVENT
UID:149686
DTSTAMP:20251006T200000
DTSTART:20251006T200000
DTEND:20251027T180000
SUMMARY:Berry Collectibles
LOCATION:2192 Juniper Creek Rd.\, Olar\, SC 29843\, US
DESCRIPTION:Online only collectibles auction 
URL:https://www.blackwaterauction.com/auctions/detail/bw149686
SEQUENCE:1
END:VEVENT
END:VCALENDAR